BEGIN:VCALENDAR
VERSION:2.0
PRODID:spatie/icalendar-generator
DESCRIPTION:Veranstaltungen von KLIMAPROJEKTE OLDENBURG
X-WR-CALDESC:Veranstaltungen von KLIMAPROJEKTE OLDENBURG
REFRESH-INTERVAL;VALUE=DURATION:PT1440M
X-PUBLISHED-TTL:PT1440M
BEGIN:VTIMEZONE
TZID:Europe/Berlin
BEGIN:DAYLIGHT
DTSTART:20250330T020000Z
TZOFFSETFROM:+0100
TZOFFSETTO:+0200
END:DAYLIGHT
BEGIN:STANDARD
DTSTART:20251026T030000Z
TZOFFSETFROM:+0200
TZOFFSETTO:+0100
END:STANDARD
BEGIN:DAYLIGHT
DTSTART:20260329T020000Z
TZOFFSETFROM:+0100
TZOFFSETTO:+0200
END:DAYLIGHT
END:VTIMEZONE
BEGIN:VTIMEZONE
TZID:UTC
BEGIN:STANDARD
DTSTART:20250725T141909Z
TZOFFSETFROM:+0000
TZOFFSETTO:+0000
END:STANDARD
END:VTIMEZONE
BEGIN:VEVENT
UID:1035-247
DTSTAMP:20260421T141909Z
SUMMARY:Apfeltag auf dem BUND-Hof Wendbüdel
LOCATION:Hof Wendbüdel Grenzweg 8  Prinzhöfte Niedersachsen 27243
ORGANIZER;CN=BUND:MAILTO:info@bund-ol-sued.de
DTSTART;TZID=Europe/Berlin:20251012T110000
DTEND;TZID=Europe/Berlin:20251012T160000
X-ALT-DESC;FMTTYPE=TEXT/HTML:<p>Viele Angebote für Kinder und Erwachsene: 
 Zur Obsterntezeit gibt es die Möglichkeit\, Äpfel zu Saft pressen zu las
 sen. Wer alte oder unbekannte Obstsorten im Garten hat\, kann sie von eine
 m Pomologen bestimmen lassen. Kommt gerne ohne Anmeldung vorbei\, Spenden 
 sind erwünscht.</p>\n<p>mitfahrgelegenheiten über: info@bund-ol-sued.de</p>\n
CATEGORIES:Veranstaltung
URL;VALUE=URI:https://klimaprojekte-oldenburg.de/mc-events/apfeltag-auf-dem
 -bund-hof-wendbuedel/
METHOD:PUBLISH
END:VEVENT
END:VCALENDAR