BEGIN:VCALENDAR
VERSION:2.0
PRODID:spatie/icalendar-generator
DESCRIPTION:Veranstaltungen von KLIMAPROJEKTE OLDENBURG
X-WR-CALDESC:Veranstaltungen von KLIMAPROJEKTE OLDENBURG
REFRESH-INTERVAL;VALUE=DURATION:PT1440M
X-PUBLISHED-TTL:PT1440M
BEGIN:VTIMEZONE
TZID:Europe/Berlin
BEGIN:DAYLIGHT
DTSTART:20250330T020000Z
TZOFFSETFROM:+0100
TZOFFSETTO:+0200
END:DAYLIGHT
BEGIN:STANDARD
DTSTART:20251026T030000Z
TZOFFSETFROM:+0200
TZOFFSETTO:+0100
END:STANDARD
BEGIN:DAYLIGHT
DTSTART:20260329T020000Z
TZOFFSETFROM:+0100
TZOFFSETTO:+0200
END:DAYLIGHT
END:VTIMEZONE
BEGIN:VTIMEZONE
TZID:UTC
BEGIN:STANDARD
DTSTART:20250725T154705Z
TZOFFSETFROM:+0000
TZOFFSETTO:+0000
END:STANDARD
END:VTIMEZONE
BEGIN:VEVENT
UID:1055-262
DTSTAMP:20260421T154705Z
SUMMARY:Demo gegen A20 mit Luisa Neubauer
LOCATION:Bahnhofsplatz Oldenburg Bahnhofsplatz  Oldenburg  26122
ORGANIZER;CN=Chrysantheme:MAILTO:christian.naaf@t-online.de
DTSTART;TZID=Europe/Berlin:20251013T173000
DTEND;TZID=Europe/Berlin:20251013T190000
X-ALT-DESC;FMTTYPE=TEXT/HTML:<p>Wir sagen Nein zum Bau der A20!</p>\n
CATEGORIES:Veranstaltung
URL;VALUE=URI:https://klimaprojekte-oldenburg.de/mc-events/demo-gegen-a20-m
 it-luisa-neubauer/
METHOD:PUBLISH
END:VEVENT
END:VCALENDAR