BEGIN:VCALENDAR
VERSION:2.0
PRODID:spatie/icalendar-generator
DESCRIPTION:Veranstaltungen von KLIMAPROJEKTE OLDENBURG
X-WR-CALDESC:Veranstaltungen von KLIMAPROJEKTE OLDENBURG
REFRESH-INTERVAL;VALUE=DURATION:PT1440M
X-PUBLISHED-TTL:PT1440M
BEGIN:VTIMEZONE
TZID:Europe/Berlin
BEGIN:DAYLIGHT
DTSTART:20250330T020000Z
TZOFFSETFROM:+0100
TZOFFSETTO:+0200
END:DAYLIGHT
BEGIN:STANDARD
DTSTART:20251026T030000Z
TZOFFSETFROM:+0200
TZOFFSETTO:+0100
END:STANDARD
BEGIN:DAYLIGHT
DTSTART:20260329T020000Z
TZOFFSETFROM:+0100
TZOFFSETTO:+0200
END:DAYLIGHT
END:VTIMEZONE
BEGIN:VTIMEZONE
TZID:UTC
BEGIN:STANDARD
DTSTART:20250725T090434Z
TZOFFSETFROM:+0000
TZOFFSETTO:+0000
END:STANDARD
END:VTIMEZONE
BEGIN:VEVENT
UID:1271-263
DTSTAMP:20260421T090434Z
SUMMARY:FFF Plenum
LOCATION:Haus der Jugend (neu) Eßkamp 126  Oldenburg  26127
ORGANIZER;CN=Chrysantheme:MAILTO:christian.naaf@t-online.de
RRULE:FREQ=WEEKLY;UNTIL=20251028T000000Z
DTSTART;TZID=Europe/Berlin:20250930T180000
DTEND;TZID=Europe/Berlin:20250930T200000
X-ALT-DESC;FMTTYPE=TEXT/HTML:<p>Fridays for Future Oldenburg trifft sich je
 den Dienstag um 18 Uhr im (neuen) Haus der Jugend</p>\n
CATEGORIES:Plena &amp; Gruppentreffen
URL;VALUE=URI:https://klimaprojekte-oldenburg.de/mc-events/fff-plenum/?mc_i
 d=1271
METHOD:PUBLISH
END:VEVENT
END:VCALENDAR