BEGIN:VCALENDAR
VERSION:2.0
PRODID:spatie/icalendar-generator
DESCRIPTION:Veranstaltungen von KLIMAPROJEKTE OLDENBURG
X-WR-CALDESC:Veranstaltungen von KLIMAPROJEKTE OLDENBURG
REFRESH-INTERVAL;VALUE=DURATION:PT1440M
X-PUBLISHED-TTL:PT1440M
BEGIN:VTIMEZONE
TZID:Europe/Berlin
BEGIN:STANDARD
DTSTART:20241027T030000Z
TZOFFSETFROM:+0200
TZOFFSETTO:+0100
END:STANDARD
BEGIN:DAYLIGHT
DTSTART:20250330T020000Z
TZOFFSETFROM:+0100
TZOFFSETTO:+0200
END:DAYLIGHT
END:VTIMEZONE
BEGIN:VTIMEZONE
TZID:UTC
BEGIN:STANDARD
DTSTART:20250725T103402Z
TZOFFSETFROM:+0000
TZOFFSETTO:+0000
END:STANDARD
END:VTIMEZONE
BEGIN:VEVENT
UID:675-173
DTSTAMP:20260421T103402Z
SUMMARY:Kleidertauschparty zur Fashion Revolution Week!
LOCATION:Uni Oldenburg\, Bibliothekssaal (BIS-Saal) Uhlhornsweg 49-55  Olde
 nburg Deutschland 26129
ORGANIZER;CN=ÖZO e.V.:MAILTO:eine-welt@oezo.de
DTSTART;TZID=Europe/Berlin:20250422T113000
DTEND;TZID=Europe/Berlin:20250422T153000
X-ALT-DESC;FMTTYPE=TEXT/HTML:<p>IT'S TIME FOR A FASHION REVOLUTION!<br />\n
 Vom 22. – 27.April steht die FASHION REVOLUTION WEEK bevor – eine Woch
 e\, in der weltweit an das tragische Ereignis des Einsturzes des Rana Plaz
 a Gebäudes 2013 in Bangladesch erinnert wird. Über 1.000 Menschen kamen 
 ums Leben und leider hat sich seitdem nicht genug in Bezug auf die Rechte 
 der Textilarbeiter:innen verändert.<br />\nWerde Teil der Fashion Revolut
 ion Week und setze ein Zeichen!</p>\n
CATEGORIES:Veranstaltung
URL;VALUE=URI:https://klimaprojekte-oldenburg.de/mc-events/kleidertauschpar
 ty-zur-fashion-revolution-week/
METHOD:PUBLISH
END:VEVENT
END:VCALENDAR