BEGIN:VCALENDAR
VERSION:2.0
PRODID:spatie/icalendar-generator
DESCRIPTION:Veranstaltungen von KLIMAPROJEKTE OLDENBURG
X-WR-CALDESC:Veranstaltungen von KLIMAPROJEKTE OLDENBURG
REFRESH-INTERVAL;VALUE=DURATION:PT1440M
X-PUBLISHED-TTL:PT1440M
BEGIN:VTIMEZONE
TZID:Europe/Berlin
BEGIN:DAYLIGHT
DTSTART:20250330T020000Z
TZOFFSETFROM:+0100
TZOFFSETTO:+0200
END:DAYLIGHT
BEGIN:STANDARD
DTSTART:20251026T030000Z
TZOFFSETFROM:+0200
TZOFFSETTO:+0100
END:STANDARD
BEGIN:DAYLIGHT
DTSTART:20260329T020000Z
TZOFFSETFROM:+0100
TZOFFSETTO:+0200
END:DAYLIGHT
END:VTIMEZONE
BEGIN:VTIMEZONE
TZID:UTC
BEGIN:STANDARD
DTSTART:20250726T085131Z
TZOFFSETFROM:+0000
TZOFFSETTO:+0000
END:STANDARD
END:VTIMEZONE
BEGIN:VEVENT
UID:967-197
DTSTAMP:20260422T085131Z
SUMMARY:Gespräch und Diskussion mit regionalen Abgeordneten des Bundestage
 s
LOCATION:VHS Oldenburg\, LzO Forum\, Raum 1.22 Karlstraße 25  Oldenburg  2
 6123
ORGANIZER;CN=Volkshochschule Oldenburg gGmbH:MAILTO:nordenbrock@vhs-ol.de
DTSTART;TZID=Europe/Berlin:20251023T183000
DTEND;TZID=Europe/Berlin:20251023T204500
X-ALT-DESC;FMTTYPE=TEXT/HTML:<p>Wir möchten im öffentlichen Austausch von
  Informationen und Meinungen mit den Abgeordneten gemeinsam Ideen für zuk
 unftsfähige demokratische Handlungs-Optionen entwickeln.</p>\n
CATEGORIES:Veranstaltung
URL;VALUE=URI:https://klimaprojekte-oldenburg.de/mc-events/gespraech-und-di
 skussion-mit-regionalen-abgeordneten-des-bundestages/
METHOD:PUBLISH
END:VEVENT
END:VCALENDAR