BEGIN:VCALENDAR
VERSION:2.0
PRODID:spatie/icalendar-generator
DESCRIPTION:Veranstaltungen von KLIMAPROJEKTE OLDENBURG
X-WR-CALDESC:Veranstaltungen von KLIMAPROJEKTE OLDENBURG
REFRESH-INTERVAL;VALUE=DURATION:PT1440M
X-PUBLISHED-TTL:PT1440M
BEGIN:VTIMEZONE
TZID:Europe/Berlin
BEGIN:STANDARD
DTSTART:20251026T030000Z
TZOFFSETFROM:+0200
TZOFFSETTO:+0100
END:STANDARD
BEGIN:DAYLIGHT
DTSTART:20260329T020000Z
TZOFFSETFROM:+0100
TZOFFSETTO:+0200
END:DAYLIGHT
END:VTIMEZONE
BEGIN:VTIMEZONE
TZID:UTC
BEGIN:STANDARD
DTSTART:20250725T090030Z
TZOFFSETFROM:+0000
TZOFFSETTO:+0000
END:STANDARD
END:VTIMEZONE
BEGIN:VEVENT
UID:1431-361
DTSTAMP:20260421T090030Z
SUMMARY:Vortrag von Maren Urner: Warum Nachhaltigkeit immer im Kopf beginnt
LOCATION:Veranstaltungshalle der Waldschule Hatten Schultredde 17  Hatten  
 26209
ORGANIZER;CN=Chrysantheme:MAILTO:christian.naaf@t-online.de
DTSTART;TZID=Europe/Berlin:20260415T181500
DTEND;TZID=Europe/Berlin:20260415T210000
X-ALT-DESC;FMTTYPE=TEXT/HTML:<p>Veranstalter: Landkreis Oldenburg<br />\nVe
 ranstaltung ist kostenlos. Anmeldung ist erforderlich!</p>\n<p>Dr. Maren U
 rner – Warum Nachhaltigkeit immer im Kopf beginnt</p>\n<p>Die Klimakrise
  ist längst zum Klimanotfall geworden und doch passiert zu wenig. Stattde
 ssen wird die Schuldfrage auf die jeweils „Anderen“ abgewälzt und es 
 mangelt vor allem an einer Sache: echter Handlungsbereitschaft. Was hinder
 t uns als Individuen und Gesellschaft (noch) am Ein- und Umlenken? Das wei
 ß die Neurowissenschaftlerin Prof. Dr. Maren Urner. Mit ihrem Slogan „A
 lles beginnt in unserem Kopf!“ lädt sie auf eine Reise durch die eigene
 n und kollektiven Hirn- und Denkstrukturen ein. Dabei zeigt sie nicht nur\
 , warum wir bisher zu wenig im Klimanotfall tun\, sondern lädt auch auf u
 nterhaltsame Art und Weise ein\, wie wir mutig und neugierig jetzt die Tra
 nsformation gestalten.</p>\n
CATEGORIES:Veranstaltung
URL;VALUE=URI:https://klimaprojekte-oldenburg.de/mc-events/vortrag-von-mare
 n-urner-warum-nachhaltigkeit-immer-im-kopf-beginnt/
METHOD:PUBLISH
END:VEVENT
END:VCALENDAR