BEGIN:VCALENDAR
VERSION:2.0
PRODID:spatie/icalendar-generator
DESCRIPTION:Veranstaltungen von KLIMAPROJEKTE OLDENBURG
X-WR-CALDESC:Veranstaltungen von KLIMAPROJEKTE OLDENBURG
REFRESH-INTERVAL;VALUE=DURATION:PT1440M
X-PUBLISHED-TTL:PT1440M
BEGIN:VTIMEZONE
TZID:Europe/Berlin
BEGIN:STANDARD
DTSTART:20251026T030000Z
TZOFFSETFROM:+0200
TZOFFSETTO:+0100
END:STANDARD
BEGIN:DAYLIGHT
DTSTART:20260329T020000Z
TZOFFSETFROM:+0100
TZOFFSETTO:+0200
END:DAYLIGHT
END:VTIMEZONE
BEGIN:VTIMEZONE
TZID:UTC
BEGIN:STANDARD
DTSTART:20250725T090041Z
TZOFFSETFROM:+0000
TZOFFSETTO:+0000
END:STANDARD
END:VTIMEZONE
BEGIN:VEVENT
UID:1440-367
DTSTAMP:20260421T090041Z
SUMMARY:Kleidertauschparty an der Uni Oldenburg
LOCATION:Uni Oldenburg\, Bibliothekssaal (BIS-Saal) Uhlhornsweg 49-55  Olde
 nburg Deutschland 26129
ORGANIZER;CN=ÖZO e.V.:MAILTO:eine-welt@oezo.de
DTSTART;TZID=Europe/Berlin:20260414T113000
DTEND;TZID=Europe/Berlin:20260414T153000
X-ALT-DESC;FMTTYPE=TEXT/HTML:<p>Am Dienstag\, 14. April 2026 lädt Oldenbur
 g handelt fair zur Kleidertauschparty an der Uni Oldenburg ein. Zwischen 1
 1:30 und 15:30 Uhr kannst du im BIS-Saal der Universität Oldenburg gut er
 haltene Kleidung mitbringen und nach neuen Lieblingsstücken stöbern.</p>
 \n<p>Tauschen statt kaufen – mach mit und setz ein Zeichen für mehr Nac
 hhaltigkeit in der Mode!</p>\n<p>Du kannst so viel mitbringen\, wie du mö
 chtest – oder auch einfach ohne Kleidung vorbeischauen und stöbern. Der
  Eintritt ist selbstverständlich kostenlos.</p>\n
CATEGORIES:Veranstaltung
URL;VALUE=URI:https://klimaprojekte-oldenburg.de/mc-events/kleidertauschpar
 ty-an-der-uni-oldenburg-2/
METHOD:PUBLISH
END:VEVENT
END:VCALENDAR