BEGIN:VCALENDAR
VERSION:2.0
PRODID:spatie/icalendar-generator
DESCRIPTION:Veranstaltungen von KLIMAPROJEKTE OLDENBURG
X-WR-CALDESC:Veranstaltungen von KLIMAPROJEKTE OLDENBURG
REFRESH-INTERVAL;VALUE=DURATION:PT1440M
X-PUBLISHED-TTL:PT1440M
BEGIN:VTIMEZONE
TZID:Europe/Berlin
BEGIN:STANDARD
DTSTART:20241027T030000Z
TZOFFSETFROM:+0200
TZOFFSETTO:+0100
END:STANDARD
BEGIN:DAYLIGHT
DTSTART:20250330T020000Z
TZOFFSETFROM:+0100
TZOFFSETTO:+0200
END:DAYLIGHT
END:VTIMEZONE
BEGIN:VTIMEZONE
TZID:UTC
BEGIN:STANDARD
DTSTART:20250725T115021Z
TZOFFSETFROM:+0000
TZOFFSETTO:+0000
END:STANDARD
END:VTIMEZONE
BEGIN:VEVENT
UID:342-109
DTSTAMP:20260421T115021Z
SUMMARY:The Wolves Always Come At Night (Film mit Gespräch)
LOCATION:cine k Bahnhofstraße 11  Oldenburg  26122
ORGANIZER;CN=Cine K / Medienbüro Oldenburg:MAILTO:presse@cine-k.de
DTSTART;TZID=Europe/Berlin:20250225T183000
DTEND;TZID=Europe/Berlin:20250225T210000
X-ALT-DESC;FMTTYPE=TEXT/HTML:<p>Nach einem verheerenden\, durch den Klimawa
 ndel verursachten Sturm\, der sie aus ihrer Heimat in der mongolischen Ste
 ppe in die Stadt zwingt\, ist ein junges Paar gezwungen\, sich an eine neu
 e Lebensweise anzupassen. Im Anschluss: Nachgespräch mit Regisseurin Gabr
 ielle Brady.</p>\n
CATEGORIES:Veranstaltung
URL;VALUE=URI:https://klimaprojekte-oldenburg.de/mc-events/the-wolves-alway
 s-come-at-night-film-mit-gespraech/
METHOD:PUBLISH
END:VEVENT
END:VCALENDAR