BEGIN:VCALENDAR
VERSION:2.0
PRODID:spatie/icalendar-generator
DESCRIPTION:Veranstaltungen von KLIMAPROJEKTE OLDENBURG
X-WR-CALDESC:Veranstaltungen von KLIMAPROJEKTE OLDENBURG
REFRESH-INTERVAL;VALUE=DURATION:PT1440M
X-PUBLISHED-TTL:PT1440M
BEGIN:VTIMEZONE
TZID:Europe/Berlin
BEGIN:STANDARD
DTSTART:20241027T030000Z
TZOFFSETFROM:+0200
TZOFFSETTO:+0100
END:STANDARD
BEGIN:DAYLIGHT
DTSTART:20250330T020000Z
TZOFFSETFROM:+0100
TZOFFSETTO:+0200
END:DAYLIGHT
END:VTIMEZONE
BEGIN:VTIMEZONE
TZID:UTC
BEGIN:STANDARD
DTSTART:20250725T114706Z
TZOFFSETFROM:+0000
TZOFFSETTO:+0000
END:STANDARD
END:VTIMEZONE
BEGIN:VEVENT
UID:355-121
DTSTAMP:20260421T114706Z
SUMMARY:Fachtag Ökologische Bildung in Schule
LOCATION:Gemeindezentrum der Sophienkirche in Oldenburg Ulmenstraße 29  Ol
 denburg  26135
ORGANIZER;CN=Chrysantheme:MAILTO:christian.naaf@t-online.de
DTSTART;TZID=Europe/Berlin:20250228T090000
DTEND;TZID=Europe/Berlin:20250228T160000
X-ALT-DESC;FMTTYPE=TEXT/HTML:<p>Die junge klima-werkstatt unter dem Dach vo
 n Werkstatt Zukunft lädt Lehrer:innen\, Schüler:innen und Studierende zu
  einem Fachtag Ökologische Bildung in Schule ein am</p>\n<p>Freitag\, 28.
  Feburar 2025\, von 9 - 16 Uhr in Oldenburg</p>\n
CATEGORIES:Veranstaltung
URL;VALUE=URI:https://klimaprojekte-oldenburg.de/mc-events/fachtag-oekologi
 sche-bildung-in-schule/
METHOD:PUBLISH
END:VEVENT
END:VCALENDAR