BEGIN:VCALENDAR
VERSION:2.0
PRODID:spatie/icalendar-generator
DESCRIPTION:Veranstaltungen von KLIMAPROJEKTE OLDENBURG
X-WR-CALDESC:Veranstaltungen von KLIMAPROJEKTE OLDENBURG
REFRESH-INTERVAL;VALUE=DURATION:PT1440M
X-PUBLISHED-TTL:PT1440M
BEGIN:VTIMEZONE
TZID:Europe/Berlin
BEGIN:DAYLIGHT
DTSTART:20240331T020000Z
TZOFFSETFROM:+0100
TZOFFSETTO:+0200
END:DAYLIGHT
BEGIN:STANDARD
DTSTART:20241027T030000Z
TZOFFSETFROM:+0200
TZOFFSETTO:+0100
END:STANDARD
BEGIN:DAYLIGHT
DTSTART:20250330T020000Z
TZOFFSETFROM:+0100
TZOFFSETTO:+0200
END:DAYLIGHT
END:VTIMEZONE
BEGIN:VTIMEZONE
TZID:UTC
BEGIN:STANDARD
DTSTART:20250726T100454Z
TZOFFSETFROM:+0000
TZOFFSETTO:+0000
END:STANDARD
END:VTIMEZONE
BEGIN:VEVENT
UID:63-31
DTSTAMP:20260422T100454Z
SUMMARY:Forum Beteiligung
LOCATION:CORE Heiligengeiststraße 2-8  Oldenburg  26121
ORGANIZER;CN=Chrysantheme:MAILTO:christian.naaf@t-online.de
DTSTART;TZID=Europe/Berlin:20241121T163000
DTEND;TZID=Europe/Berlin:20241121T190000
X-ALT-DESC;FMTTYPE=TEXT/HTML:<p><b>Forum Beteiligung</b><br />\ninformieren
  - vernetzen - mitgestalten<br />\n21.11.2024 16:30 19:00<br />\nCORE I He
 iligengeiststraße 6/8</p>\n<p>Forum Beteiligung </p>\n<p>Hast Du schon m
 al von einem BarCamp gehört? Wir stellen uns die Frage\, wie wir #gemeins
 am Ziele für Oldenburg erreichen und schauen uns dafür ganz unterschiedl
 iche aktuelle Fragestellungen\, die Du mitbringst. Denn gemeinsam ist imme
 r besser. </p>\n<p>Warum du dabei sein solltest?</p>\n<p>Du bist gefragt:
  Deine Stimme zählt! Du entscheidest mit\, welche Themen auf die Agenda k
 ommen und wie Lösungen aussehen können. <br />\nKreativer Austausch: Di
 skutiere in offenen Formaten mit Menschen aus allen gesellschaftlichen Ber
 eichen. </p>\n<p>Das Forum Beteiligung ist ein Vernetzungstreffen für al
 le Menschen\, die an guter Beteiligung in Oldenburg interessiert sind. Neb
 en dem Austausch zwischen Bürgerinnen und Bürgern und Akteuren von Betei
 ligungsvorhaben können Ideen für 2025 entwickelt und Anregungen für lau
 fende Projekte gegeben werden.</p>\n<p>Also: Welches Thema bewegt Dich ger
 ade am meisten?</p>\n<p>Wir freuen uns auf Dich #dubistrichtigwichtig. </
 p>\n
CATEGORIES:Stadt OL
URL;VALUE=URI:https://klimaprojekte-oldenburg.de/mc-events/forum-beteiligun
 g/
METHOD:PUBLISH
END:VEVENT
END:VCALENDAR