BEGIN:VCALENDAR
VERSION:2.0
PRODID:spatie/icalendar-generator
DESCRIPTION:Veranstaltungen von KLIMAPROJEKTE OLDENBURG
X-WR-CALDESC:Veranstaltungen von KLIMAPROJEKTE OLDENBURG
REFRESH-INTERVAL;VALUE=DURATION:PT1440M
X-PUBLISHED-TTL:PT1440M
BEGIN:VTIMEZONE
TZID:Europe/Berlin
BEGIN:DAYLIGHT
DTSTART:20250330T020000Z
TZOFFSETFROM:+0100
TZOFFSETTO:+0200
END:DAYLIGHT
BEGIN:STANDARD
DTSTART:20251026T030000Z
TZOFFSETFROM:+0200
TZOFFSETTO:+0100
END:STANDARD
BEGIN:DAYLIGHT
DTSTART:20260329T020000Z
TZOFFSETFROM:+0100
TZOFFSETTO:+0200
END:DAYLIGHT
END:VTIMEZONE
BEGIN:VTIMEZONE
TZID:UTC
BEGIN:STANDARD
DTSTART:20250725T090013Z
TZOFFSETFROM:+0000
TZOFFSETTO:+0000
END:STANDARD
END:VTIMEZONE
BEGIN:VEVENT
UID:972-201
DTSTAMP:20260421T090013Z
SUMMARY:Was kann uns das Moor über den Klimawandel verraten?
LOCATION:VHS Oldenburg\, Raum 4.15 Karlstraße 25  Oldenburg Niedersachsen 
 26123
ORGANIZER;CN=Volkshochschule Oldenburg gGmbH:MAILTO:nordenbrock@vhs-ol.de
DTSTART;TZID=Europe/Berlin:20251118T190000
DTEND;TZID=Europe/Berlin:20251118T211500
X-ALT-DESC;FMTTYPE=TEXT/HTML:<p>Der „Junge von Kayhausen“ und weitere B
 esonderheiten zum Lebensraum Moor</p>\n
CATEGORIES:Veranstaltung
URL;VALUE=URI:https://klimaprojekte-oldenburg.de/mc-events/was-kann-uns-das
 -moor-ueber-den-klimawandel-verraten/
METHOD:PUBLISH
END:VEVENT
END:VCALENDAR